BEGIN:VCALENDAR
VERSION:2.0
PRODID:-//ChamberMaster//Event Calendar 2.0//EN
METHOD:PUBLISH
X-PUBLISHED-TTL:P3D
REFRESH-INTERVAL:P3D
CALSCALE:GREGORIAN
BEGIN:VEVENT
DTSTART;VALUE=DATE:20250608
DTEND;VALUE=DATE:20250609
TRANSP:TRANSPARENT
X-MICROSOFT-CDO-ALLDAYEVENT:TRUE
SUMMARY:Water Ski Show/Easterseals Rehadilitation Center
DESCRIPTION:Sunday\, June 8\n\nOhio River Water Ski Show at Wheeling Heritage Port\, featuring the Chippewa Lake Water Ski Show Team skiing in formation and doing stunts on the river. Jet Ski Grand Prize Raffle benefits Easterseals Rehabilitation Center. Sponsored by Panhandle Cleaning and Restoration. Food trucks open at 12 p.m. Water ski shows at 1 pm and 3 pm. Rain or shine. Free.
X-ALT-DESC;FMTTYPE=text/html:Sunday\, June 8<br />\nOhio River Water Ski Show at Wheeling Heritage Port\, featuring the Chippewa Lake Water Ski Show Team skiing in formation and doing stunts on the river. Jet Ski Grand Prize Raffle benefits Easterseals Rehabilitation Center. <span style="background:white\;"><span style="color:black\;">Sponsored by Panhandle Cleaning and Restoration. Food&nbsp\;</span></span>trucks open at 12 p.m. Water ski shows at 1 pm and 3 pm. Rain or shine. Free.<br />\n&nbsp\;
LOCATION:
UID:e.1848.13588
SEQUENCE:3
DTSTAMP:20260423T110124Z
URL:https://business.stcchamber.com/events/details/water-ski-show-easterseals-rehadilitation-center-13588
END:VEVENT

END:VCALENDAR
