BEGIN:VCALENDAR
VERSION:2.0
PRODID:-//ChamberMaster//Event Calendar 2.0//EN
METHOD:PUBLISH
X-PUBLISHED-TTL:P3D
REFRESH-INTERVAL:P3D
CALSCALE:GREGORIAN
BEGIN:VEVENT
DTSTART:20250314T140000Z
DTEND:20250314T150000Z
X-MICROSOFT-CDO-ALLDAYEVENT:FALSE
SUMMARY:Veterans Town Hall
DESCRIPTION:Get important VA updates and hear from VAPHS leadership and representatives from VBA's Pittsburgh Regional Office and the National Cemetery of the Alleghenies. Our town hall is part of our ongoing effort to hear from you and use your feedback to improve VA care. Participate in person\, via Webex or by phone on Friday\, March 14\, from 10 a.m. to noon. --Join in person in the Learning Exchange on the second floor of building 29 on the University Drive campus\, Pittsburgh\, PA 15240. --Join via Webex at https://shorturl.at/KuKiF\, webinar number 2823 005 0403 and password bHptaWY*842 (24782990 when dialing from a phone or video system) --Join via phone: Call 1-404-397-1596 and enter access code 282 300 50403. Phone participants must press *3 to raise their hand to ask a question.
X-ALT-DESC;FMTTYPE=text/html:Get important VA updates and hear from VAPHS leadership and representatives from VBA&rsquo\;s Pittsburgh Regional Office and the National Cemetery of the Alleghenies. Our town hall is part of our ongoing effort to hear from you and use your feedback to improve VA care. Participate in person\, via Webex or by phone on Friday\, March 14\, from 10 a.m. to noon. --Join in person in the Learning Exchange on the second floor of building 29 on the University Drive campus\, Pittsburgh\, PA 15240. --Join via Webex at https://shorturl.at/KuKiF\, webinar number 2823 005 0403 and password bHptaWY*842 (24782990 when dialing from a phone or video system) --Join via phone: Call 1-404-397-1596 and enter access code 282 300 50403. Phone participants must press *3 to raise their hand to ask a question.
LOCATION:VA Pittsburgh Healthcare System University Drive Pittsburgh\, PA 15240
UID:e.1848.13596
SEQUENCE:3
DTSTAMP:20260423T145005Z
URL:https://business.stcchamber.com/events/details/veterans-town-hall-03-14-2025-13596
END:VEVENT

END:VCALENDAR
