BEGIN:VCALENDAR
VERSION:2.0
PRODID:-//ChamberMaster//Event Calendar 2.0//EN
METHOD:PUBLISH
X-PUBLISHED-TTL:P3D
REFRESH-INTERVAL:P3D
CALSCALE:GREGORIAN
BEGIN:VEVENT
DTSTART:20240306T150000Z
DTEND:20240306T160000Z
X-MICROSOFT-CDO-ALLDAYEVENT:FALSE
SUMMARY:Veterans Town Hall
DESCRIPTION:Veterans Town Hall Wednesday\, March 6\, at 10 a.m. Get important VA updates and hear from VAPHS leadership and representatives from VBA's Pittsburgh Regional Office and the National Cemetery of the Alleghenies. Our town hall is part of our ongoing effort to hear from you and use your feedback to improve VA care. Attend in person\, via Webex or by phone: 1. Join in person on the University Drive campus\, building 29\, Learning Exchange\, Pittsburgh\, PA 15240. 2. Join via Webex at https://bit.ly/49pF2Sq   Webinar number 2825 396 9182   Webinar password 3PAhfZuc*86 3. Join via phone:   Call 1-404-397-1596 and enter access code 2825 396 9182.   Phone participants must press *3 to raise their hand to ask a question.
X-ALT-DESC;FMTTYPE=text/html:Veterans Town Hall Wednesday\, March 6\, at 10 a.m. Get important VA updates and hear from VAPHS leadership and representatives from VBA&rsquo\;s Pittsburgh Regional Office and the National Cemetery of the Alleghenies. Our town hall is part of our ongoing effort to hear from you and use your feedback to improve VA care. Attend in person\, via Webex or by phone: 1. Join in person on the University Drive campus\, building 29\, Learning Exchange\, Pittsburgh\, PA 15240. 2. Join via Webex at https://bit.ly/49pF2Sq &bull\; Webinar number 2825 396 9182 &bull\; Webinar password 3PAhfZuc*86 3. Join via phone: &bull\; Call 1-404-397-1596 and enter access code 2825 396 9182. &bull\; Phone participants must press *3 to raise their hand to ask a question.
LOCATION:4100 Allequippa St\, Pittsburgh\, PA 15240
UID:e.1848.13516
SEQUENCE:3
DTSTAMP:20260424T171708Z
URL:https://business.stcchamber.com/events/details/veterans-town-hall-03-06-2024-13516
END:VEVENT

END:VCALENDAR
