BEGIN:VCALENDAR
VERSION:2.0
PRODID:-//ChamberMaster//Event Calendar 2.0//EN
METHOD:PUBLISH
X-PUBLISHED-TTL:P3D
REFRESH-INTERVAL:P3D
CALSCALE:GREGORIAN
BEGIN:VEVENT
DTSTART:20231118T210000Z
DTEND:20231119T010000Z
X-MICROSOFT-CDO-ALLDAYEVENT:FALSE
SUMMARY:St. Clairsville Light up Night
DESCRIPTION:
X-ALT-DESC;FMTTYPE=text/html:
LOCATION:Belmont County Courthouse Steps
UID:e.1848.13471
SEQUENCE:3
DTSTAMP:20260424T235440Z
URL:https://business.stcchamber.com/events/details/st-clairsville-light-up-night-13471
END:VEVENT

END:VCALENDAR
