BEGIN:VCALENDAR
VERSION:2.0
PRODID:-//ChamberMaster//Event Calendar 2.0//EN
METHOD:PUBLISH
X-PUBLISHED-TTL:P3D
REFRESH-INTERVAL:P3D
CALSCALE:GREGORIAN
BEGIN:VEVENT
DTSTART:20240918T120000Z
DTEND:20240918T200000Z
X-MICROSOFT-CDO-ALLDAYEVENT:FALSE
SUMMARY:ServSafe® Food Protection Manager Class & Exam
DESCRIPTION:Hosted by HRFoodSafe - A Leading Instructor of the ServSafe  Programs Join us for the ServSafe  Food Protection Manager Certification in-person class and exam. The class runs for approximately 6 hours. Regulatory requirements may vary\, be sure to review class schedule for any hour requirements for your state. The exam immediately follows the class. All training materials incorporate the latest information from the most recent FDA Food Code. We use the ServSafe  Manager 7th Edition Revised for all class instructions. Register for the class at hrfoodsafe.com Any questions or looking for more information? Contact us at info@hrfoodsafe.com
X-ALT-DESC;FMTTYPE=text/html:Hosted by HRFoodSafe - A Leading Instructor of the ServSafe&reg\; Programs Join us for the ServSafe&reg\; Food Protection Manager Certification in-person class and exam. The class runs for approximately 6 hours. Regulatory requirements may vary\, be sure to review class schedule for any hour requirements for your state. The exam immediately follows the class. All training materials incorporate the latest information from the most recent FDA Food Code. We use the ServSafe&reg\; Manager 7th Edition Revised for all class instructions. Register for the class at hrfoodsafe.com Any questions or looking for more information? Contact us at info@hrfoodsafe.com
LOCATION:Residence Inn Access Road\, 50694 Ohio Valley Pl\, St Clairsville\, OH 43950
UID:e.1848.13542
SEQUENCE:3
DTSTAMP:20260424T061431Z
URL:https://business.stcchamber.com/events/details/servsafe-food-protection-manager-class-exam-13542
END:VEVENT

END:VCALENDAR
