BEGIN:VCALENDAR
VERSION:2.0
PRODID:-//ChamberMaster//Event Calendar 2.0//EN
METHOD:PUBLISH
X-PUBLISHED-TTL:P3D
REFRESH-INTERVAL:P3D
CALSCALE:GREGORIAN
BEGIN:VEVENT
DTSTART:20250531T120000Z
DTEND:20250531T170000Z
X-MICROSOFT-CDO-ALLDAYEVENT:FALSE
SUMMARY:Relevant Worship Center Vendor and Rummage Sale
DESCRIPTION:Local crafters\, vendors and businesses will be on display and sale on our campus. A church wide rummage sale will be located inside our Family Center for all to browse and shop. Concessions and bake sale! This is an annual event that coincides with the Rt 40 sale days! Vendor space still available
X-ALT-DESC;FMTTYPE=text/html:Local crafters\, vendors and businesses will be on display and sale on our campus. A church wide rummage sale will be located inside our Family Center for all to browse and shop. Concessions and bake sale! This is an annual event that coincides with the Rt 40 sale days! Vendor space still available
LOCATION:Relevant Worship Center 52901 National Rd. St. Clairsvlle. I-70 exit 220 Top of Blaine Hill
UID:e.1848.13609
SEQUENCE:3
DTSTAMP:20260423T110201Z
URL:https://business.stcchamber.com/events/details/relevant-worship-center-vendor-and-rummage-sale-13609
END:VEVENT

END:VCALENDAR
