BEGIN:VCALENDAR
VERSION:2.0
PRODID:-//ChamberMaster//Event Calendar 2.0//EN
METHOD:PUBLISH
X-PUBLISHED-TTL:P3D
REFRESH-INTERVAL:P3D
CALSCALE:GREGORIAN
BEGIN:VEVENT
DTSTART:20240829T210000Z
DTEND:20240829T223000Z
X-MICROSOFT-CDO-ALLDAYEVENT:FALSE
SUMMARY:Grand Opening/Ribbon Cutting Wild Chick Co.
DESCRIPTION:TBA
X-ALT-DESC;FMTTYPE=text/html:TBA
LOCATION:Wild + Chic Co. 51710 National Road\, St. Clairsville. OH
UID:e.1848.13548
SEQUENCE:3
DTSTAMP:20260424T094146Z
URL:https://business.stcchamber.com/events/details/grand-opening-ribbon-cutting-wild-chick-co-13548
END:VEVENT

END:VCALENDAR
