BEGIN:VCALENDAR
VERSION:2.0
PRODID:-//ChamberMaster//Event Calendar 2.0//EN
METHOD:PUBLISH
X-PUBLISHED-TTL:P3D
REFRESH-INTERVAL:P3D
CALSCALE:GREGORIAN
BEGIN:VEVENT
DTSTART:20251105T123000Z
DTEND:20251105T140000Z
X-MICROSOFT-CDO-ALLDAYEVENT:FALSE
SUMMARY:Coffee & Connections Sponsored by Focused Foundations
DESCRIPTION:
X-ALT-DESC;FMTTYPE=text/html:
LOCATION:Bellaire Christian Church 3565 Belmont Street Bellaire\, Ohio 43906
UID:e.1848.13623
SEQUENCE:3
DTSTAMP:20260423T005003Z
URL:https://business.stcchamber.com/events/details/coffee-connections-sponsored-by-focused-foundations-13623
END:VEVENT

END:VCALENDAR
