BEGIN:VCALENDAR
VERSION:2.0
PRODID:-//ChamberMaster//Event Calendar 2.0//EN
METHOD:PUBLISH
X-PUBLISHED-TTL:P3D
REFRESH-INTERVAL:P3D
CALSCALE:GREGORIAN
BEGIN:VEVENT
DTSTART:20230620T170000Z
DTEND:20230620T190000Z
X-MICROSOFT-CDO-ALLDAYEVENT:FALSE
SUMMARY:American Heart Association CPR renewal class
DESCRIPTION:AHA CPR Renewal course . Please contact Carri or Laura at  Focused Foundations LLC ( 740)-325-9297
X-ALT-DESC;FMTTYPE=text/html:AHA CPR Renewal course . Please contact Carri or Laura at&nbsp\; Focused Foundations LLC ( 740)-325-9297
LOCATION:3201 Belmont Street Suite 601 Bellaire Ohio 43906
UID:e.1848.13455
SEQUENCE:3
DTSTAMP:20260425T101951Z
URL:https://business.stcchamber.com/events/details/american-heart-association-cpr-renewal-class-06-20-2023-13455
END:VEVENT

END:VCALENDAR
