BEGIN:VCALENDAR
VERSION:2.0
PRODID:-//ChamberMaster//Event Calendar 2.0//EN
METHOD:PUBLISH
X-PUBLISHED-TTL:P3D
REFRESH-INTERVAL:P3D
CALSCALE:GREGORIAN
BEGIN:VEVENT
DTSTART:20240926T213000Z
DTEND:20240927T000000Z
X-MICROSOFT-CDO-ALLDAYEVENT:FALSE
SUMMARY:2024 Ohio Valley Heart Walk
DESCRIPTION:Join us for the return of the Ohio Valley Heart Walk! Please mark your calendars and plan to join us as we come together to celebrate our heart & stroke survivors and to raise life-saving funds for our mission! There will be face painting\, yard games\, a live DJ\, the Southpaw Eatz Food Truck\, water and healthy snacks\, a pet parade and pet bandanas\, and a jump rope contest! We are so excited to see you at Wheeling Park! Registration: 5:30 p.m. Walk: 6:00 p.m. Register your team today at: www.heart.org/ohiovalleywalk
X-ALT-DESC;FMTTYPE=text/html:Join us for the return of the Ohio Valley Heart Walk! Please mark your calendars and plan to join us as we come together to celebrate our heart &amp\; stroke survivors and to raise life-saving funds for our mission! There will be face painting\, yard games\, a live DJ\, the Southpaw Eatz Food Truck\, water and healthy snacks\, a pet parade and pet bandanas\, and a jump rope contest! We are so excited to see you at Wheeling Park! Registration: 5:30 p.m. Walk: 6:00 p.m. Register your team today at: www.heart.org/ohiovalleywalk
LOCATION:Wheeling Park
UID:e.1848.13540
SEQUENCE:3
DTSTAMP:20260424T062216Z
URL:https://business.stcchamber.com/events/details/2024-ohio-valley-heart-walk-13540
END:VEVENT

END:VCALENDAR
