BEGIN:VCALENDAR
VERSION:2.0
PRODID:-//ChamberMaster//Event Calendar 2.0//EN
METHOD:PUBLISH
X-PUBLISHED-TTL:P3D
REFRESH-INTERVAL:P3D
CALSCALE:GREGORIAN
BEGIN:VEVENT
DTSTART:20240224T233000Z
DTEND:20240225T045500Z
X-MICROSOFT-CDO-ALLDAYEVENT:FALSE
SUMMARY:2024 Ohio Valley Heart Ball
DESCRIPTION:Join us for the return of the Ohio Valley Heart Ball! It's the biggest party of the year\, and we're off to "Wonderland" for a night you'll never forget! There will be auctions\, live music\, delicious foods and\, of course\, the 10 P.M. SURPRISE! And best of all\, you'll be helping usher in the Second Century of the American Heart Association as we celebrate our 100 year anniversary! It's a great time for a great cause! It's "Wonderland\," - the 2024 Ohio Valley Heart Ball!
X-ALT-DESC;FMTTYPE=text/html:Join us for the return of the Ohio Valley Heart Ball! It&#39\;s the biggest party of the year\, and we&#39\;re off to &quot\;Wonderland&quot\; for a night you&#39\;ll never forget! There will be auctions\, live music\, delicious foods and\, of course\, the 10 P.M. SURPRISE! And best of all\, you&#39\;ll be helping usher in the Second Century of the American Heart Association as we celebrate our 100 year anniversary! It&#39\;s a great time for a great cause! It&#39\;s &quot\;Wonderland\,&quot\; - the 2024 Ohio Valley Heart Ball!
LOCATION:Belmont Hills Country Club
UID:e.1848.13509
SEQUENCE:3
DTSTAMP:20260424T184348Z
URL:https://business.stcchamber.com/events/details/2024-ohio-valley-heart-ball-13509
END:VEVENT

END:VCALENDAR
